BEGIN:VCALENDAR
VERSION:2.0
PRODID:-//wp-events-plugin.com//7.2.3.1//EN
TZID:Europe/Berlin
X-WR-TIMEZONE:Europe/Berlin
BEGIN:VEVENT
UID:85@pg-mariamagdalena.de
DTSTART;TZID=Europe/Berlin:20251109T170000
DTEND;TZID=Europe/Berlin:20251109T170000
DTSTAMP:20251023T093543Z
URL:https://pg-mariamagdalena.de/events/martinszug-in-kirchberg/
SUMMARY:Martinszug in Kirchberg
DESCRIPTION:Treffpunkt am Ortseingang\n\nIm Anschluss gibt es einen zwanglo
 sen Treff mit Kinderpunsch und Lebkuchen.
ATTACH;FMTTYPE=image/jpeg:https://i0.wp.com/pg-mariamagdalena.de/wp-conten
 t/uploads/2025/10/Martinszug-KB.png?fit=551%2C778&ssl=1
CATEGORIES:Veranstaltung
LOCATION:Kirchberg - Pfarrkirche Mariä Himmelfahrt\, Kirchberg 7\, Regenst
 auf\, 93128\, Deutschland
GEO:49.15964;12.19688
X-APPLE-STRUCTURED-LOCATION;VALUE=URI;X-ADDRESS=Kirchberg 7\, Regenstauf\, 
 93128\, Deutschland;X-APPLE-RADIUS=100;X-TITLE=Kirchberg - Pfarrkirche Mar
 iä Himmelfahrt:geo:49.15964,12.19688
END:VEVENT
BEGIN:VTIMEZONE
TZID:Europe/Berlin
X-LIC-LOCATION:Europe/Berlin
BEGIN:STANDARD
DTSTART:20251026T020000
TZOFFSETFROM:+0200
TZOFFSETTO:+0100
TZNAME:CET
END:STANDARD
END:VTIMEZONE
END:VCALENDAR