BEGIN:VCALENDAR
VERSION:2.0
PRODID:-//wp-events-plugin.com//7.2.3.1//EN
TZID:Europe/Berlin
X-WR-TIMEZONE:Europe/Berlin
BEGIN:VEVENT
UID:76@pg-mariamagdalena.de
DTSTART;TZID=Europe/Berlin:20261127T190000
DTEND;TZID=Europe/Berlin:20261127T190000
DTSTAMP:20250930T132136Z
URL:https://pg-mariamagdalena.de/events/maisl-november-2026/
SUMMARY:MAISL November 2026 - "Knockin‘ on heaven’s door"
DESCRIPTION:Thema: Knockin' on heaven's door
ATTACH;FMTTYPE=image/jpeg:https://i0.wp.com/pg-mariamagdalena.de/wp-conten
 t/uploads/2025/09/MAISL_2026_Termine.jpg?fit=1265%2C1772&ssl=1
CATEGORIES:MAISL
LOCATION:Diesenbach - Pfarrkirche St. Johannes\, Sandstraße 20\, Regenstau
 f\, 93128\, 44J9+62\, Deutschland
GEO:49.130637;12.11778
X-APPLE-STRUCTURED-LOCATION;VALUE=URI;X-ADDRESS=Sandstraße 20\, Regenstauf
 \, 93128\, 44J9+62\, Deutschland;X-APPLE-RADIUS=100;X-TITLE=Diesenbach - P
 farrkirche St. Johannes:geo:49.130637,12.11778
END:VEVENT
BEGIN:VTIMEZONE
TZID:Europe/Berlin
X-LIC-LOCATION:Europe/Berlin
BEGIN:STANDARD
DTSTART:20261025T020000
TZOFFSETFROM:+0200
TZOFFSETTO:+0100
TZNAME:CET
END:STANDARD
END:VTIMEZONE
END:VCALENDAR