BEGIN:VCALENDAR
VERSION:2.0
PRODID:-//wp-events-plugin.com//7.2.3.1//EN
TZID:Europe/Berlin
X-WR-TIMEZONE:Europe/Berlin
BEGIN:VEVENT
UID:297@pg-mariamagdalena.de
DTSTART;TZID=Europe/Berlin:20260514T180000
DTEND;TZID=Europe/Berlin:20260514T180000
DTSTAMP:20260406T062605Z
URL:https://pg-mariamagdalena.de/events/konzert-alte-musik-ohne-grenzen/
SUMMARY:Konzert "Alte Musik ohne Grenzen"
DESCRIPTION:Kammermusik vom Mittelalter bis zur Vorklassik\n\nDuo Inspiraci
 ón\nYiliam Rosa López Suárez (Flöten)\nBernhard Grobbel (Cembalo\n\nEi
 ntritt frei\, Spenden erbeten
ATTACH;FMTTYPE=image/jpeg:https://i0.wp.com/pg-mariamagdalena.de/wp-conten
 t/uploads/2026/04/alte_musik_ohne_grenzen.jpg?fit=1000%2C1414&ssl=1
CATEGORIES:Veranstaltung
LOCATION:Zeitlarn - Pfarrkirche St. Bartholomäus\, Kirchweg 1\, Zeitlarn\,
  93197\, Deutschland
GEO:49.076169;12.1049
X-APPLE-STRUCTURED-LOCATION;VALUE=URI;X-ADDRESS=Kirchweg 1\, Zeitlarn\, 931
 97\, Deutschland;X-APPLE-RADIUS=100;X-TITLE=Zeitlarn - Pfarrkirche St. Bar
 tholomäus:geo:49.076169,12.1049
END:VEVENT
BEGIN:VTIMEZONE
TZID:Europe/Berlin
X-LIC-LOCATION:Europe/Berlin
BEGIN:DAYLIGHT
DTSTART:20260329T030000
TZOFFSETFROM:+0100
TZOFFSETTO:+0200
TZNAME:CEST
END:DAYLIGHT
END:VTIMEZONE
END:VCALENDAR