BEGIN:VCALENDAR
VERSION:2.0
PRODID:-//wp-events-plugin.com//7.2.3.1//EN
TZID:Europe/Berlin
X-WR-TIMEZONE:Europe/Berlin
BEGIN:VEVENT
UID:114@pg-mariamagdalena.de
DTSTART;TZID=Europe/Berlin:20260714T190000
DTEND;TZID=Europe/Berlin:20260714T190000
DTSTAMP:20251124T150458Z
URL:https://pg-mariamagdalena.de/events/bibelgespraech-in-regenstauf-4/
SUMMARY:Bibelgespräch in Regenstauf
DESCRIPTION:
ATTACH;FMTTYPE=image/jpeg:https://i0.wp.com/pg-mariamagdalena.de/wp-conten
 t/uploads/2025/11/Bibelgespraech-1.png?fit=2404%2C1705&ssl=1
CATEGORIES:Veranstaltung
LOCATION:Regenstauf - Pfarrzentrum\, Kirchplatz 7 (Eingang Mesnergasse)\, R
 egenstauf\, 93128\, Deutschland
GEO:49.123202;12.128192
X-APPLE-STRUCTURED-LOCATION;VALUE=URI;X-ADDRESS=Kirchplatz 7 (Eingang Mesne
 rgasse)\, Regenstauf\, 93128\, Deutschland;X-APPLE-RADIUS=100;X-TITLE=Rege
 nstauf - Pfarrzentrum:geo:49.123202,12.128192
END:VEVENT
BEGIN:VTIMEZONE
TZID:Europe/Berlin
X-LIC-LOCATION:Europe/Berlin
BEGIN:DAYLIGHT
DTSTART:20260329T030000
TZOFFSETFROM:+0100
TZOFFSETTO:+0200
TZNAME:CEST
END:DAYLIGHT
END:VTIMEZONE
END:VCALENDAR